BEGIN:VCALENDAR
VERSION:2.0
PRODID:-//ChamberMaster//Event Calendar 2.0//EN
METHOD:PUBLISH
X-PUBLISHED-TTL:P3D
REFRESH-INTERVAL:P3D
CALSCALE:GREGORIAN
BEGIN:VEVENT
DTSTART:20150623T190000Z
DTEND:20150623T200000Z
X-MICROSOFT-CDO-ALLDAYEVENT:FALSE
SUMMARY:LUNCH & LEARN
DESCRIPTION:Healthcare Management presented by American Heritage University
X-ALT-DESC;FMTTYPE=text/html:Healthcare Management presented by American Heritage University
LOCATION:Ontario Chamber of Commerce 520 North Euclid Avenue Ontario
UID:e.2320.1500
SEQUENCE:3
DTSTAMP:20260424T002321Z
URL:http://ontarioca.chambermaster.com/events/details/lunch-learn-06-23-2015-1500
END:VEVENT

END:VCALENDAR
