BEGIN:VCALENDAR
VERSION:2.0
PRODID:-//ChamberMaster//Event Calendar 2.0//EN
METHOD:PUBLISH
X-PUBLISHED-TTL:P3D
REFRESH-INTERVAL:P3D
CALSCALE:GREGORIAN
BEGIN:VEVENT
DTSTART:20160430T150000Z
DTEND:20160430T183000Z
X-MICROSOFT-CDO-ALLDAYEVENT:FALSE
SUMMARY:APICS Spring Symposium
DESCRIPTION:APICS\, Inland Empire Chapter Spring Symposium: Emerging Supply Chain Trends. Join us for our Spring Symposium and Q&A style executive panel\n\ndiscussion on "Emerging Supply Chain Trends." Our expert panelists\n\nwill provide their perspective on trends that are shaping the future of\n\nmanufacturing and distribution companies and the end to end\n\nsupply chain.
X-ALT-DESC;FMTTYPE=text/html:APICS\, Inland Empire Chapter Spring Symposium: Emerging Supply Chain Trends.&nbsp\;Join us for our Spring Symposium&nbsp\;and Q&amp\;A style executive panel<br />\ndiscussion on &quot\;Emerging Supply&nbsp\;Chain Trends.&quot\; Our expert panelists<br />\nwill provide their perspective on&nbsp\;trends that are shaping the future of<br />\nmanufacturing and distribution&nbsp\;companies and the end&#8208\;to&#8208\;end<br />\nsupply chain.
LOCATION:Eagle Glen Golf Club Corona CA
UID:e.2320.2558
SEQUENCE:3
DTSTAMP:20260422T022044Z
URL:http://ontarioca.chambermaster.com/events/details/apics-spring-symposium-04-30-2016-2558
END:VEVENT

END:VCALENDAR
